BEGIN:VCALENDAR
VERSION:2.0
PRODID:-//The Life Centre Church - ECPv6.15.14//NONSGML v1.0//EN
CALSCALE:GREGORIAN
METHOD:PUBLISH
X-WR-CALNAME:The Life Centre Church
X-ORIGINAL-URL:https://tlccommunity.ca
X-WR-CALDESC:Events for The Life Centre Church
REFRESH-INTERVAL;VALUE=DURATION:PT1H
X-Robots-Tag:noindex
X-PUBLISHED-TTL:PT1H
BEGIN:VTIMEZONE
TZID:America/Vancouver
BEGIN:DAYLIGHT
TZOFFSETFROM:-0800
TZOFFSETTO:-0700
TZNAME:PDT
DTSTART:20250309T100000
END:DAYLIGHT
BEGIN:STANDARD
TZOFFSETFROM:-0700
TZOFFSETTO:-0800
TZNAME:PST
DTSTART:20251102T090000
END:STANDARD
BEGIN:DAYLIGHT
TZOFFSETFROM:-0800
TZOFFSETTO:-0700
TZNAME:PDT
DTSTART:20260308T100000
END:DAYLIGHT
BEGIN:STANDARD
TZOFFSETFROM:-0700
TZOFFSETTO:-0800
TZNAME:PST
DTSTART:20261101T090000
END:STANDARD
BEGIN:DAYLIGHT
TZOFFSETFROM:-0800
TZOFFSETTO:-0700
TZNAME:PDT
DTSTART:20270314T100000
END:DAYLIGHT
BEGIN:STANDARD
TZOFFSETFROM:-0700
TZOFFSETTO:-0800
TZNAME:PST
DTSTART:20271107T090000
END:STANDARD
END:VTIMEZONE
BEGIN:VEVENT
DTSTART;TZID=America/Vancouver:20260426T143000
DTEND;TZID=America/Vancouver:20260426T160000
DTSTAMP:20260422T071805
CREATED:20260202T204732Z
LAST-MODIFIED:20260413T063613Z
UID:1063-1777213800-1777219200@tlccommunity.ca
SUMMARY:Sunday Worship Service
DESCRIPTION:Please join us at 2:30pm for our Sunday Worship Service.
URL:https://tlccommunity.ca/event/sunday-worship-service-2/
END:VEVENT
BEGIN:VEVENT
DTSTART;TZID=America/Vancouver:20260428T190000
DTEND;TZID=America/Vancouver:20260428T200000
DTSTAMP:20260422T071805
CREATED:20260415T062857Z
LAST-MODIFIED:20260415T062857Z
UID:1075-1777402800-1777406400@tlccommunity.ca
SUMMARY:Night of Prayer
DESCRIPTION:Come join us for an hour of prayer together. \n7:00pm to 8:00pm \nYou are invited join with the Pastoral Search Team as\, together\, we discern the Holy Spirit’s leading.
URL:https://tlccommunity.ca/event/night-of-prayer/
END:VEVENT
BEGIN:VEVENT
DTSTART;TZID=America/Vancouver:20260502T090000
DTEND;TZID=America/Vancouver:20260502T103000
DTSTAMP:20260422T071805
CREATED:20251218T202634Z
LAST-MODIFIED:20260413T063209Z
UID:1036-1777712400-1777717800@tlccommunity.ca
SUMMARY:Men's Breakfast
DESCRIPTION:Men! You are invited to join us for a time of fellowship and food. \n9:00am – In the Great Room \nPlease use the North Entrance
URL:https://tlccommunity.ca/event/mens-breakfast/
END:VEVENT
BEGIN:VEVENT
DTSTART;TZID=America/Vancouver:20260503T143000
DTEND;TZID=America/Vancouver:20260503T160000
DTSTAMP:20260422T071805
CREATED:20260415T063110Z
LAST-MODIFIED:20260415T063110Z
UID:1077-1777818600-1777824000@tlccommunity.ca
SUMMARY:Sunday Worship Service
DESCRIPTION:We invite you to  join us at 2:30pm for our Sunday Worship Service.
URL:https://tlccommunity.ca/event/sunday-worship-service/
END:VEVENT
BEGIN:VEVENT
DTSTART;TZID=America/Vancouver:20260510T143000
DTEND;TZID=America/Vancouver:20260510T160000
DTSTAMP:20260422T071805
CREATED:20260415T063158Z
LAST-MODIFIED:20260415T063158Z
UID:1079-1778423400-1778428800@tlccommunity.ca
SUMMARY:Sunday Worship Service
DESCRIPTION:We invite you to  join us at 2:30pm for our Sunday Worship Service.
URL:https://tlccommunity.ca/event/sunday-worship-service-3/
END:VEVENT
BEGIN:VEVENT
DTSTART;TZID=America/Vancouver:20260517T143000
DTEND;TZID=America/Vancouver:20260517T160000
DTSTAMP:20260422T071805
CREATED:20260415T063306Z
LAST-MODIFIED:20260415T063306Z
UID:1081-1779028200-1779033600@tlccommunity.ca
SUMMARY:Sunday Worship Service
DESCRIPTION:We invite you to  join us at 2:30pm for our Sunday Worship Service.
URL:https://tlccommunity.ca/event/sunday-worship-service-5/
END:VEVENT
BEGIN:VEVENT
DTSTART;TZID=America/Vancouver:20260524T143000
DTEND;TZID=America/Vancouver:20260524T160000
DTSTAMP:20260422T071805
CREATED:20260415T063355Z
LAST-MODIFIED:20260415T063355Z
UID:1083-1779633000-1779638400@tlccommunity.ca
SUMMARY:Sunday Worship Service
DESCRIPTION:We invite you to  join us at 2:30pm for our Sunday Worship Service.
URL:https://tlccommunity.ca/event/sunday-worship-service-6/
END:VEVENT
BEGIN:VEVENT
DTSTART;TZID=America/Vancouver:20260531T143000
DTEND;TZID=America/Vancouver:20260531T160000
DTSTAMP:20260422T071805
CREATED:20260415T063447Z
LAST-MODIFIED:20260415T063447Z
UID:1085-1780237800-1780243200@tlccommunity.ca
SUMMARY:Sunday Worship Service
DESCRIPTION:We invite you to  join us at 2:30pm for our Sunday Worship Service.
URL:https://tlccommunity.ca/event/sunday-worship-service-7/
END:VEVENT
BEGIN:VEVENT
DTSTART;TZID=America/Vancouver:20260606T090000
DTEND;TZID=America/Vancouver:20260606T110000
DTSTAMP:20260422T071805
CREATED:20260414T163843Z
LAST-MODIFIED:20260414T163843Z
UID:1073-1780736400-1780743600@tlccommunity.ca
SUMMARY:Men's Breakfast
DESCRIPTION:Men! You are invited to join us for a time of fellowship and food. \n9:00am – In the Great Room \nPlease use the North Entrance
URL:https://tlccommunity.ca/event/mens-breakfast-2/
END:VEVENT
END:VCALENDAR